BEGIN:VCALENDAR
VERSION:2.0
PRODID:-//LED//LedEducation//EN
BEGIN:VEVENT
UID:event-8@lededu.eu
DTSTAMP:20260326T155301Z
DTSTART;VALUE=DATE:20260601
DTEND;VALUE=DATE:20260602
SUMMARY:Board Games Week
DESCRIPTION:Board Games Week is a camp for kids and teens who enjoy strategy, role-playing, and social interaction.

During the week, participants will explore different types of games — from classic board games to modern popular ones. It’s not just about playing, but also about developing logic, creativity, and communication skills.

📅 Program:

Day 1:
Classic games — cards, UNO, Charades
Create your own card design
Day 2:
Live-action Mafia with costumes
Avalon, Code Names
Day 3:
“Bunker” role-play game with props and сценарии
Alias
Day 4:
Legendary games (Pokemon, Yu-Gi-Oh, MTG)
Strategy games: Catan, Citadels
Day 5:
Giant Monopoly + final games

🎯 Who is it for:
-kids and teens aged 11–16
-those who enjoy games, strategy, and teamwork
-anyone who wants to develop logic and communication skills

📍 Location:
Merķeļa 21, Riga

⏰ Time:
08:30 – 18:30
(early drop-off / late pick-up available upon request)

👥 Group size:
Up to 20 children

💶 Price:
195 € + 25 € meals
END:VEVENT
END:VCALENDAR
